BEGIN:VCALENDAR
VERSION:2.0
PRODID:-//datacraft - ECPv6.15.20//NONSGML v1.0//EN
CALSCALE:GREGORIAN
METHOD:PUBLISH
X-WR-CALNAME:datacraft
X-ORIGINAL-URL:https://datacraft.paris
X-WR-CALDESC:Events for datacraft
REFRESH-INTERVAL;VALUE=DURATION:PT1H
X-Robots-Tag:noindex
X-PUBLISHED-TTL:PT1H
BEGIN:VTIMEZONE
TZID:Europe/Paris
BEGIN:DAYLIGHT
TZOFFSETFROM:+0100
TZOFFSETTO:+0200
TZNAME:CEST
DTSTART:20250330T010000
END:DAYLIGHT
BEGIN:STANDARD
TZOFFSETFROM:+0200
TZOFFSETTO:+0100
TZNAME:CET
DTSTART:20251026T010000
END:STANDARD
BEGIN:DAYLIGHT
TZOFFSETFROM:+0100
TZOFFSETTO:+0200
TZNAME:CEST
DTSTART:20260329T010000
END:DAYLIGHT
BEGIN:STANDARD
TZOFFSETFROM:+0200
TZOFFSETTO:+0100
TZNAME:CET
DTSTART:20261025T010000
END:STANDARD
BEGIN:DAYLIGHT
TZOFFSETFROM:+0100
TZOFFSETTO:+0200
TZNAME:CEST
DTSTART:20270328T010000
END:DAYLIGHT
BEGIN:STANDARD
TZOFFSETFROM:+0200
TZOFFSETTO:+0100
TZNAME:CET
DTSTART:20271031T010000
END:STANDARD
END:VTIMEZONE
BEGIN:VEVENT
DTSTART;TZID=Europe/Paris:20260511T170000
DTEND;TZID=Europe/Paris:20260511T190000
DTSTAMP:20260425T132328
CREATED:20260421T101254Z
LAST-MODIFIED:20260421T101809Z
UID:18921-1778518800-1778526000@datacraft.paris
SUMMARY:Retour d’expérience: déploiement de l’IA dans les industries créatives
DESCRIPTION:S’inscrire à l’événement\n\npar Alexandre Folliot\, CEO de X&Immersion\, startup experte en développement d’outils IA sur mesure pour les industries créatives \nCet atelier propose un retour d’expérience concret\, nourri d’exemples métiers réels et de cas pratiques\, sur le déploiement de l’IA dans les industries créatives\, en dépassant les idées reçues selon lesquelles ces technologies menaceraient intrinsèquement les métiers artistiques. Alexandre Folliot partagera les enseignements tirés de plus de 30 projets menés dans des domaines variés tels que le jeu vidéo\, l’animation et les musées interactifs. Il reviendra sur un constat clé : les publics ne sont souvent pas prêts à payer le coût réel d’une création 100% humaine\, ce qui pousse les studios à repenser leurs modèles de production. \nL’atelier présentera comment X&Immersion accompagne ces acteurs dans la mise en place de pipelines d’IA maîtrisés\, entraînés sur leurs contenus propriétaires\, sans dépendance aux hyperscalers\, afin de générer des créations additionnelles cohérentes avec leur identité artistique. \nEnfin\, seront abordés les enjeux d’acceptabilité de ces technologies — tant du côté des créateurs que des publics — ainsi que les approches pour prévenir les rejets. L’atelier explorera également les modèles émergents permettant de reconnaître la paternité des artistes et d’imaginer de nouveaux mécanismes de rémunération liés aux œuvres issues de l’IA. \n\nS’inscrire à l’événement
URL:https://datacraft.paris/event/retour-dexperience-deploiement-de-lia-dans-les-industries-creatives/
LOCATION:Le Village By CA –\, 55 rue la Boétie\, 75008 Paris\, 75008\, France
CATEGORIES:Hybrid event,in French
END:VEVENT
BEGIN:VEVENT
DTSTART;TZID=Europe/Paris:20260518T170000
DTEND;TZID=Europe/Paris:20260518T200000
DTSTAMP:20260425T132328
CREATED:20260319T105413Z
LAST-MODIFIED:20260403T101521Z
UID:18744-1779123600-1779134400@datacraft.paris
SUMMARY:REX – Graphes + IA : des systèmes qui comprennent vraiment vos données
DESCRIPTION:S’inscrire à l’événement\n\nPar Nicolas Rouyer\, Senior Manager Solutions Engineering chez Neo4j \nEt si vos données pouvaient enfin dialoguer entre elles ?\nDans cet atelier\, Nicolas Rouyer vous propose de découvrir comment les technologies de graphes révèlent les relations cachées au sein de vos données\, quelle que soit leur origine. En combinant graphes et intelligence artificielle\, il devient possible d’apporter le contexte nécessaire pour produire des résultats plus fiables\, plus pertinents\, et faire émerger de nouvelles connaissances.\nAu programme : \n\nUne introduction accessible à la théorie des graphes et aux concepts clés mobilisés dans les approches GraphRAG\nUne exploration de GraphRAG et des contextes enrichis\, au cœur des nouvelles générations d’agents IA\nDes cas d’usage concrets\, déjà déployés en production dans la finance\, la pharma et l’industrie\n\nUn atelier pour comprendre comment donner une nouvelle dimension à vos applications métier grâce à l’alliance des graphes et de l’IA. \n\nS’inscrire à l’événement
URL:https://datacraft.paris/event/rex-graphes-ia-des-systemes-qui-comprennent-vraiment-vos-donnees/
LOCATION:Le Village By CA –\, 55 rue la Boétie\, 75008 Paris\, 75008\, France
CATEGORIES:Hybrid event,in French
END:VEVENT
BEGIN:VEVENT
DTSTART;TZID=Europe/Paris:20260520T170000
DTEND;TZID=Europe/Paris:20260520T190000
DTSTAMP:20260425T132328
CREATED:20260420T081104Z
LAST-MODIFIED:20260420T081524Z
UID:18915-1779296400-1779303600@datacraft.paris
SUMMARY:Aligning Data Visualization with Human Cognition: A Novel Approach to Large Numbers.
DESCRIPTION:S’inscrire à l’événement\n\npresentation by Katerina Batziakoudi\, PhD in Data Visualization with the AVIZ team at Inria \nDr Batziakoudi’s research is about helping people make sense of very large numbers —like the thousands\, millions\, and billions found in public budgets— because common linear and logarithmic charts make these values hard to compare and understand. \nInstead of treating this only as a visualization problem\, she studies it as a human understanding problem: how people naturally think about large numbers\, and how charts can better match that way of thinking. \nIn particular\, this work builds on psychological findings that people do not perceive large values as purely linear or logarithmic; rather\, we tend to mentally chunk them into groups such as thousands\, millions\, and billions\, and reason linearly within each group\, much as numbers are expressed in language.\nBased on this\, she designed and tested novel visual representations that align with this piecewise linear way of thinking. Across a series of experiments and real-world evaluations\, including work with journalists exploring national budget data\, she shows that these designs can make comparisons easier\, reduce mental effort\, and improve confidence in interpretation. \nMore broadly\, this presentation proposes a design approach for visualizing extreme numerical ranges that is grounded in how people actually reason about numbers. \n\nS’inscrire à l’événement
URL:https://datacraft.paris/event/aligning-data-visualization-with-human-cognition-a-novel-approach-to-large-numbers/
LOCATION:datacraft –\, 3 rue Rossini\, 75009 Paris\, France
CATEGORIES:Hybrid event,in English
END:VEVENT
BEGIN:VEVENT
DTSTART;TZID=Europe/Paris:20260528T160000
DTEND;TZID=Europe/Paris:20260528T190000
DTSTAMP:20260425T132328
CREATED:20260112T141716Z
LAST-MODIFIED:20260319T101049Z
UID:18075-1779984000-1779994800@datacraft.paris
SUMMARY:WORKSHOP - Collecter et exploiter les posts Bluesky
DESCRIPTION:​Par Francis Wolinski\, ingénieur IA Freelance\, Yotta Conseil \nBluesky est un réseau social décentralisé créé en 2019\, initialement comme projet de recherche au sein de Twitter. \n​Son objectif était d’explorer la création d’un standard ouvert pour les réseaux sociaux\, permettant davantage d’interopérabilité\, de portabilité des données et de transparence dans la modération et les algorithmes. \n​Devenu une organisation indépendante\, Bluesky s’appuie sur l’AT Protocol (Authenticated Transfer Protocol)\, une architecture conçue pour favoriser la décentralisation des services\, l’autonomie des utilisateurs et la possibilité de développer des applications sociales interopérables. \n​Cet atelier permettra de découvrir et de tirer parti de l’API Bluesky. \n​Au programme\n\nCollecter les posts Bluesky avec le protocole AT Protocol (atproto)\nExploiter les posts Bluesky avec Polars\nMise en pratique sur les cas d’usage proposés par les participants (clustering\, séries temporelles\, analyse de sentiments…)\n\nPré-requis : il est recommandé de participer à l’atelier “From Pandas to Polars” qui se tiendra en février\nInscription
URL:https://datacraft.paris/event/workshop-collecter-et-exploiter-les-posts-bluesky/
LOCATION:Le Village By CA –\, 55 rue la Boétie\, 75008 Paris\, 75008\, France
CATEGORIES:Hybrid event,in French
END:VEVENT
BEGIN:VEVENT
DTSTART;TZID=Europe/Paris:20260603T170000
DTEND;TZID=Europe/Paris:20260603T200000
DTSTAMP:20260425T132328
CREATED:20260324T153427Z
LAST-MODIFIED:20260324T153906Z
UID:18763-1780506000-1780516800@datacraft.paris
SUMMARY:OR-Tools: modélisez et résolvez vos problèmes d’optimisation
DESCRIPTION:S’inscrire à l’événement\n\npar Laurent Perron\,  responsable de l’équipe de recherche opérationnelle chez Google. \nDécouvrez le potentiel de OR-Tools\, la bibliothèque open source de Google spécialisée en recherche opérationnelle et dédiée à la résolution de problèmes d’optimisation. Cet atelier propose une présentation claire et accessible des principaux outils de la toolbox\, pour comprendre leurs usages et identifier ceux qui peuvent répondre à vos besoins. \nAu programme\n– Programmation linéaire et mixte (LP/MIP) : des outils pour modéliser et optimiser des décisions sous contraintes\, comme la planification ou la gestion de ressources.\n– Solveur de contraintes (CP-SAT) : une approche puissante pour résoudre des problèmes combinatoires complexes\, tels que les emplois du temps ou les affectations.\n– Optimisation de tournées (VRP) : des méthodes pour améliorer les itinéraires de véhicules et relever des défis logistiques concrets.\n– Graphes et flots : des algorithmes pour analyser et optimiser des réseaux (transport\, flux\, appariements\, etc.). \nL’objectif : vous donner les clés pour comprendre ce que OR-Tools peut faire pour vous\, et vous orienter efficacement vers une utilisation future. \nUn atelier idéal pour explorer l’optimisation… avant de passer à la pratique lors de notre atelier du 9 juin sur l’optimisation des itinéraires d’une flotte de véhicules. \n\nS’inscrire à l’événement
URL:https://datacraft.paris/event/or-tools-modelisez-et-resolvez-vos-problemes-doptimisation/
LOCATION:Le Village By CA –\, 55 rue la Boétie\, 75008 Paris\, 75008\, France
CATEGORIES:Hybrid event,in French
END:VEVENT
BEGIN:VEVENT
DTSTART;TZID=Europe/Paris:20260610T090000
DTEND;TZID=Europe/Paris:20260610T170000
DTSTAMP:20260425T132328
CREATED:20260305T125302Z
LAST-MODIFIED:20260402T135732Z
UID:18541-1781082000-1781110800@datacraft.paris
SUMMARY:Club des Entreprises Pionnières #2 - IA au Travail Saison 2\, datcraft x Inria
DESCRIPTION:Journée du Club des Entreprises Pionnières #2\nCette 2ème journée des entreprises pionnières s’inscrit dans le cadre de l’étude collaborative menée par datacraft et Inria (LaborIA)\, dédiée\, cette année\, à l’appropriation de l’IA par les collaborateurs et à ses impacts organisationnels\, managériaux et opérationnels.\nCe temps fort est exclusivement réservé aux entreprises pionnières engagées dans l’initiative.\nIl reste encore quelques places pour rejoindre l’initiative !\nPlus d’informations ici ou en contactant jeanne.godard@datacraft.paris    \nAgenda de la matinée :\n1) Eclairage international par un chercheur étranger d’un laboratoire de recherche “LaborIA like” \n2) Présentation des grands enseignements issus des entretiens avec les entreprises pionnières\, par Nicolas Crozatier (chercheur du LaborIA) \n3) Focus sur une sous-thématique du grand sujet de la Saison 2 : S’approprier l’IA  \n– Introduction scientifique par Yann Ferguson\, Directeur scientifique du LaborIA.\n– Table ronde fédérant les entreprises les plus avancées sur le sujet\n– Atelier “World café”
URL:https://datacraft.paris/event/club-des-entreprises-pionnieres-2-ia-au-travail-saison-2-datcraft-x-inria/
CATEGORIES:Hybrid event,in French
ORGANIZER;CN="datacraft":MAILTO:contact@datacraft.paris
END:VEVENT
BEGIN:VEVENT
DTSTART;TZID=Europe/Paris:20260908T090000
DTEND;TZID=Europe/Paris:20260908T170000
DTSTAMP:20260425T132328
CREATED:20260305T125537Z
LAST-MODIFIED:20260402T135822Z
UID:18543-1788858000-1788886800@datacraft.paris
SUMMARY:Club des Entreprises Pionnières #3 - IA au Travail Saison 2\, datcraft x Inria
DESCRIPTION:Journée du Club des Entreprises Pionnières #3\nCette 3ème journée des entreprises pionnières s’inscrit dans le cadre de l’étude collaborative menée par datacraft et Inria (LaborIA)\, dédiée\, cette année\, à l’appropriation de l’IA par les collaborateurs et à ses impacts organisationnels\, managériaux et opérationnels.\nCe temps fort est exclusivement réservé aux entreprises pionnières engagées dans l’initiative.\nIl est reste encore quelques places pour rejoindre l’initiative !\nPlus d’informations ici ou en contactant jeanne.godard@datacraft.paris    \nAgenda de la matinée :\n1) Eclairage international par un chercheur étranger d’un laboratoire de recherche “LaborIA like” \n2) Présentation des grands enseignements issus des entretiens avec les entreprises pionnières\, par Nicolas Crozatier (chercheur du LaborIA) \n3) Focus sur une sous-thématique du grand sujet de la Saison 2 : S’approprier l’IA  \n– Introduction scientifique par Yann Ferguson\, Directeur scientifique du LaborIA.\n– Table ronde fédérant les entreprises les plus avancées sur le sujet\n– Atelier “World café”
URL:https://datacraft.paris/event/club-des-entreprises-pionnieres-3-ia-au-travail-saison-2-datcraft-x-inria/
CATEGORIES:Hybrid event,in French
ORGANIZER;CN="datacraft":MAILTO:contact@datacraft.paris
END:VEVENT
BEGIN:VEVENT
DTSTART;TZID=Europe/Paris:20261201T083000
DTEND;TZID=Europe/Paris:20261201T110000
DTSTAMP:20260425T132328
CREATED:20260305T130333Z
LAST-MODIFIED:20260305T130333Z
UID:18545-1796113800-1796122800@datacraft.paris
SUMMARY:Restitution du rapport - IA au Travail Saison 2\, datcraft x Inria
DESCRIPTION:
URL:https://datacraft.paris/event/restitution-du-rapport-ia-au-travail-saison-2-datcraft-x-inria/
CATEGORIES:Hybrid event,in English,in French
END:VEVENT
END:VCALENDAR