BEGIN:VCALENDAR
VERSION:2.0
PRODID:-//datacraft - ECPv6.15.20//NONSGML v1.0//EN
CALSCALE:GREGORIAN
METHOD:PUBLISH
X-WR-CALNAME:datacraft
X-ORIGINAL-URL:https://datacraft.paris
X-WR-CALDESC:Events for datacraft
REFRESH-INTERVAL;VALUE=DURATION:PT1H
X-Robots-Tag:noindex
X-PUBLISHED-TTL:PT1H
BEGIN:VTIMEZONE
TZID:Europe/Paris
BEGIN:DAYLIGHT
TZOFFSETFROM:+0100
TZOFFSETTO:+0200
TZNAME:CEST
DTSTART:20220327T010000
END:DAYLIGHT
BEGIN:STANDARD
TZOFFSETFROM:+0200
TZOFFSETTO:+0100
TZNAME:CET
DTSTART:20221030T010000
END:STANDARD
BEGIN:DAYLIGHT
TZOFFSETFROM:+0100
TZOFFSETTO:+0200
TZNAME:CEST
DTSTART:20230326T010000
END:DAYLIGHT
BEGIN:STANDARD
TZOFFSETFROM:+0200
TZOFFSETTO:+0100
TZNAME:CET
DTSTART:20231029T010000
END:STANDARD
BEGIN:DAYLIGHT
TZOFFSETFROM:+0100
TZOFFSETTO:+0200
TZNAME:CEST
DTSTART:20240331T010000
END:DAYLIGHT
BEGIN:STANDARD
TZOFFSETFROM:+0200
TZOFFSETTO:+0100
TZNAME:CET
DTSTART:20241027T010000
END:STANDARD
END:VTIMEZONE
BEGIN:VEVENT
DTSTART;TZID=Europe/Paris:20230216T190000
DTEND;TZID=Europe/Paris:20230216T200000
DTSTAMP:20260425T145304
CREATED:20221219T145358Z
LAST-MODIFIED:20230216T153949Z
UID:7880-1676574000-1676577600@datacraft.paris
SUMMARY:[ÉVÉNEMENT REPORTÉ] REX - Analyser les documents cliniques à l’aide d’algorithmes de traitement automatique du langage : quelques exemples dans le cadre d’un entrepôt de données de santé hospitalier
DESCRIPTION:L’IA permet d’analyser automatiquement des millions de documents cliniques contenus dans les entrepôts de données de santé (EDS)\, pour réaliser des recherches et contribuer au pilotage des établissements de santé. Cette présentation portera sur le développement et l’utilisation d’algorithmes de traitement automatique du langage (TAL) dans le cadre de l’EDS de l’AP-HP. Elle sera divisée en 3 séquences : \nDéveloppement\, validation et utilisation des algorithmes de TAL clinique dans le contexte d’un EDS : quelles sont les compétences et les technologies nécessaires ? Comment utiliser des algorithmes préexistants ? Comment contribuer à leur amélioration ? (Intervenant : Romain Bey)Cas d’usage : algorithmes extrayant les comorbidités du score Charlson mentionnées dans les comptes rendus (Intervenants : Dr. Emmanuelle Kempf\, Thomas Petit-Jean)Cas d’usage : algorithme détectant automatiquement la mise en page et la structuration en sections des documents cliniques afin de mieux contextualiser les mentions ainsi détectées (Intervenants : Dr. Christel Gérardin\, Perceval Wajsbürt)
URL:https://datacraft.paris/event/analyser-les-documents-cliniques-a-laide-dalgorithmes-de-tal/
LOCATION:Ekimetrics Paris –\, 36 Rue La Fayette\, Paris\, 75009\, France
ORGANIZER;CN="datacraft":MAILTO:contact@datacraft.paris
END:VEVENT
END:VCALENDAR