BEGIN:VCALENDAR
VERSION:2.0
PRODID:-//datacraft - ECPv6.15.20//NONSGML v1.0//EN
CALSCALE:GREGORIAN
METHOD:PUBLISH
X-WR-CALNAME:datacraft
X-ORIGINAL-URL:https://datacraft.paris
X-WR-CALDESC:Events for datacraft
REFRESH-INTERVAL;VALUE=DURATION:PT1H
X-Robots-Tag:noindex
X-PUBLISHED-TTL:PT1H
BEGIN:VTIMEZONE
TZID:Europe/Paris
BEGIN:DAYLIGHT
TZOFFSETFROM:+0100
TZOFFSETTO:+0200
TZNAME:CEST
DTSTART:20250330T010000
END:DAYLIGHT
BEGIN:STANDARD
TZOFFSETFROM:+0200
TZOFFSETTO:+0100
TZNAME:CET
DTSTART:20251026T010000
END:STANDARD
BEGIN:DAYLIGHT
TZOFFSETFROM:+0100
TZOFFSETTO:+0200
TZNAME:CEST
DTSTART:20260329T010000
END:DAYLIGHT
BEGIN:STANDARD
TZOFFSETFROM:+0200
TZOFFSETTO:+0100
TZNAME:CET
DTSTART:20261025T010000
END:STANDARD
BEGIN:DAYLIGHT
TZOFFSETFROM:+0100
TZOFFSETTO:+0200
TZNAME:CEST
DTSTART:20270328T010000
END:DAYLIGHT
BEGIN:STANDARD
TZOFFSETFROM:+0200
TZOFFSETTO:+0100
TZNAME:CET
DTSTART:20271031T010000
END:STANDARD
END:VTIMEZONE
BEGIN:VEVENT
DTSTART;TZID=Europe/Paris:20260626T090000
DTEND;TZID=Europe/Paris:20260626T170000
DTSTAMP:20260421T132728
CREATED:20260420T084329Z
LAST-MODIFIED:20260420T084742Z
UID:18918-1782464400-1782493200@datacraft.paris
SUMMARY:Atelier Model Thinking: configurer un LLM pour le traitement de mails KYC
DESCRIPTION:S’inscrire à l’événement\n\nHugo Penichou\, CTO et Cofondateur de SkyDot\, startup spécialisée dans le traitement des dossiers KYC \nA l’occasion de cet atelier co-animé avec la startup SkyDot\, les participants seront invités à se confronter à un défi concret de configuration d’agent issu du terrain.\nA partir d’un dataset synthétique reconstruit sur la base d’emails KYC réels\, l’objectif sera de construire une bibliothèque de skills / prompts robustes permettant l’extraction structurée d’informations clées au traitement des KYC via l’usage de LLM sans fine tuning. L’atelier ira ainsi au-delà du prompt engineering\, pour s’approcher du model thinking avec plusieurs étapes de traitement (extraction\, structuration\, validation). \nL’atelier combinera retour d’expérience industrielle et approche méthodologique. SkyDot présentera la problématique métier et les approches déjà testées. Les participants seront ensuite invités à explorer plusieurs stratégies de conception de prompts\, en expérimentant différentes formulations\, structures d’instructions et mécanismes de contrôle de sortie. Le but visé sera d’identifier les entités concernées dans un email KYC\, puis standardiser les demandes sous forme de fichiers JSON (confirmations\, liste de documents\, questionnaires). \nL’atelier mettra l’accent sur une démarche itérative : prototypage rapide\, test sur des exemples\, analyse des erreurs et amélioration continue. Une attention particulière sera portée à la généricité et à la maintenabilité des solutions proposées\, dans une logique de passage à l’échelle. \nEn fin de session\, un temps de restitution collective permettra de comparer les approches\, d’identifier les bonnes pratiques émergentes et de discuter des limites actuelles des LLM dans ce type de cas d’usage\, ouvrant la voie à des pistes d’amélioration et d’industrialisation. \n\nS’inscrire à l’événement
URL:https://datacraft.paris/event/atelier-model-thinking-configurer-un-llm-pour-le-traitement-de-mails-kyc/
LOCATION:datacraft –\, 3 rue Rossini\, 75009 Paris\, France
CATEGORIES:in French,on-site event
END:VEVENT
END:VCALENDAR