BEGIN:VCALENDAR
VERSION:2.0
PRODID:-//datacraft - ECPv6.15.20//NONSGML v1.0//EN
CALSCALE:GREGORIAN
METHOD:PUBLISH
X-WR-CALNAME:datacraft
X-ORIGINAL-URL:https://datacraft.paris
X-WR-CALDESC:Events for datacraft
REFRESH-INTERVAL;VALUE=DURATION:PT1H
X-Robots-Tag:noindex
X-PUBLISHED-TTL:PT1H
BEGIN:VTIMEZONE
TZID:Europe/Paris
BEGIN:DAYLIGHT
TZOFFSETFROM:+0100
TZOFFSETTO:+0200
TZNAME:CEST
DTSTART:20240331T010000
END:DAYLIGHT
BEGIN:STANDARD
TZOFFSETFROM:+0200
TZOFFSETTO:+0100
TZNAME:CET
DTSTART:20241027T010000
END:STANDARD
BEGIN:DAYLIGHT
TZOFFSETFROM:+0100
TZOFFSETTO:+0200
TZNAME:CEST
DTSTART:20250330T010000
END:DAYLIGHT
BEGIN:STANDARD
TZOFFSETFROM:+0200
TZOFFSETTO:+0100
TZNAME:CET
DTSTART:20251026T010000
END:STANDARD
BEGIN:DAYLIGHT
TZOFFSETFROM:+0100
TZOFFSETTO:+0200
TZNAME:CEST
DTSTART:20260329T010000
END:DAYLIGHT
BEGIN:STANDARD
TZOFFSETFROM:+0200
TZOFFSETTO:+0100
TZNAME:CET
DTSTART:20261025T010000
END:STANDARD
END:VTIMEZONE
BEGIN:VEVENT
DTSTART;TZID=Europe/Paris:20250623T190000
DTEND;TZID=Europe/Paris:20250623T230000
DTSTAMP:20260421T122219
CREATED:20250312T095039Z
LAST-MODIFIED:20250623T152304Z
UID:14604-1750705200-1750719600@datacraft.paris
SUMMARY:datacraft Awards 2025
DESCRIPTION:3ème édition d’un événement unique dans l’univers de l’IA – Lundi 23 juin\, Salle Wagram \nAfin de mettre à l’honneur les experts qui travaillent dans l’univers de la data et de l’intelligence artificielle\, datacraft organise la troisième édition des datacraft Awards\, le rendez-vous annuel qui distingue les meilleures initiatives dans le domaine de la data & de l’IA. Cette cérémonie de référence pour les dirigeants et la communauté IA est suivie d’un moment de célébration mêlant danse\, musique et fête. \nLes datacraft Awards distinguent des projets et des équipes sélectionnées par un jury d’experts\, à l’occasion d’une grande soirée festive de remise de prix. \nCes prix sont au nombre de 5 : \n\ndatacraft Award IA et Société\ndatacraft Award de la Start-up\ndatacraft Award de la Transformation de l’Entreprise\ndatacraft Award de l’Audace\ndatacraft Award 2025 – prix du public\n\nAprès pré-sélection des dossiers de candidature par datacraft\, le jury se réunira fin avril ou tout début mai 2025 pour les auditions. \nLes prix seront remis le lundi 23 juin 2025.\nLe jury sélectionnera les 4 premiers prix et le datacraft Award 2024 sera décerné parmi les 4 lauréats\, par le public présent lors de la manifestation. \nLe datacraft Award de la communauté IA fera l’objet d’un vote en amont parmi tous les candidats nominés. \nPlus de 400 invités qui font partie du cœur de la communauté data et IA\, ainsi que des dirigeants d’entreprises de premier plan et des journalistes\, seront présents.
URL:https://datacraft.paris/event/datacraft-awards-2025/
LOCATION:Salle Wagram –\, 39 avenue de Wagram\, Paris\, 75017
CATEGORIES:in French,on-site event
END:VEVENT
END:VCALENDAR