BEGIN:VCALENDAR
VERSION:2.0
PRODID:-//datacraft - ECPv6.15.20//NONSGML v1.0//EN
CALSCALE:GREGORIAN
METHOD:PUBLISH
X-WR-CALNAME:datacraft
X-ORIGINAL-URL:https://datacraft.paris
X-WR-CALDESC:Events for datacraft
REFRESH-INTERVAL;VALUE=DURATION:PT1H
X-Robots-Tag:noindex
X-PUBLISHED-TTL:PT1H
BEGIN:VTIMEZONE
TZID:Europe/Paris
BEGIN:DAYLIGHT
TZOFFSETFROM:+0100
TZOFFSETTO:+0200
TZNAME:CEST
DTSTART:20230326T010000
END:DAYLIGHT
BEGIN:STANDARD
TZOFFSETFROM:+0200
TZOFFSETTO:+0100
TZNAME:CET
DTSTART:20231029T010000
END:STANDARD
BEGIN:DAYLIGHT
TZOFFSETFROM:+0100
TZOFFSETTO:+0200
TZNAME:CEST
DTSTART:20240331T010000
END:DAYLIGHT
BEGIN:STANDARD
TZOFFSETFROM:+0200
TZOFFSETTO:+0100
TZNAME:CET
DTSTART:20241027T010000
END:STANDARD
BEGIN:DAYLIGHT
TZOFFSETFROM:+0100
TZOFFSETTO:+0200
TZNAME:CEST
DTSTART:20250330T010000
END:DAYLIGHT
BEGIN:STANDARD
TZOFFSETFROM:+0200
TZOFFSETTO:+0100
TZNAME:CET
DTSTART:20251026T010000
END:STANDARD
END:VTIMEZONE
BEGIN:VEVENT
DTSTART;TZID=Europe/Paris:20241210T140000
DTEND;TZID=Europe/Paris:20241210T180000
DTSTAMP:20260421T104212
CREATED:20240910T081234Z
LAST-MODIFIED:20241204T141636Z
UID:12756-1733839200-1733853600@datacraft.paris
SUMMARY:Get insights from LLM chat data and monitor semantic drift
DESCRIPTION:2406-Bunka-Bunka \n            \n\n                \n\n\n                \n                \n                    Inscription\n                \n            \n             \nDescription \n\nIn the rapidly growing landscape of ChatGPT-like applications\, Retrieval-Augmented Generation (RAG) solutions are gaining significant traction. However\, analyzing the user-generated data from these applications to extract meaningful insights and adapt to emerging trends is a complex challenge. \nThis workshop introduces Bunka\, an open-source library designed for intuitive exploration and visualization of unstructured datasets. Using Bunka\, participants will explore embeddings in simplified projections\, empowering them to uncover hidden patterns and track semantic drift effectively. \nWe will work with a unique\, anonymized dataset of recently leaked chat channels from Andrew Tate’s private community\, tackling real-world challenges to extract actionable insights. The session will focus on techniques to:• Analyze user behavior and emerging trends in chat data.• Monitor semantic drift and its impact on application performance.• Adaptively predict and respond to new themes and trends. \nBy the end of this hands-on workshop\, you’ll gain practical experience with embedding-based analysis and actionable insights into leveraging semantic monitoring to enhance your LLM-driven applications. \n\nJoin us by registering now !
URL:https://datacraft.paris/event/exploring-filtering-datasets-for-llm-fine-tuning/
LOCATION:datacraft –\, 3 rue Rossini\, 75009 Paris\, France
CATEGORIES:Hybrid event,in English
ORGANIZER;CN="datacraft":MAILTO:contact@datacraft.paris
END:VEVENT
END:VCALENDAR