BEGIN:VCALENDAR
VERSION:2.0
PRODID:-//datacraft - ECPv6.15.20//NONSGML v1.0//EN
CALSCALE:GREGORIAN
METHOD:PUBLISH
X-WR-CALNAME:datacraft
X-ORIGINAL-URL:https://datacraft.paris
X-WR-CALDESC:Events for datacraft
REFRESH-INTERVAL;VALUE=DURATION:PT1H
X-Robots-Tag:noindex
X-PUBLISHED-TTL:PT1H
BEGIN:VTIMEZONE
TZID:Europe/Paris
BEGIN:DAYLIGHT
TZOFFSETFROM:+0100
TZOFFSETTO:+0200
TZNAME:CEST
DTSTART:20230326T010000
END:DAYLIGHT
BEGIN:STANDARD
TZOFFSETFROM:+0200
TZOFFSETTO:+0100
TZNAME:CET
DTSTART:20231029T010000
END:STANDARD
BEGIN:DAYLIGHT
TZOFFSETFROM:+0100
TZOFFSETTO:+0200
TZNAME:CEST
DTSTART:20240331T010000
END:DAYLIGHT
BEGIN:STANDARD
TZOFFSETFROM:+0200
TZOFFSETTO:+0100
TZNAME:CET
DTSTART:20241027T010000
END:STANDARD
BEGIN:DAYLIGHT
TZOFFSETFROM:+0100
TZOFFSETTO:+0200
TZNAME:CEST
DTSTART:20250330T010000
END:DAYLIGHT
BEGIN:STANDARD
TZOFFSETFROM:+0200
TZOFFSETTO:+0100
TZNAME:CET
DTSTART:20251026T010000
END:STANDARD
END:VTIMEZONE
BEGIN:VEVENT
DTSTART;TZID=Europe/Paris:20240229T090000
DTEND;TZID=Europe/Paris:20240229T173000
DTSTAMP:20260421T135001
CREATED:20240124T144031Z
LAST-MODIFIED:20240216T104913Z
UID:9861-1709197200-1709227800@datacraft.paris
SUMMARY:FORMATION – INITIATION À L’IA GÉNÉRATIVE : DU CONCEPT À LA RÉALITÉ !
DESCRIPTION:1 journée à la découverte des IA génératives organisée en deux temps : \n Une matinée\, pour vous approprier les grands concepts des IA génératives et leurs applications : du texte à l’image en passant par le son et la vidéo. Puis nous ferons un focus sur les IA génératives de texte pour comprendre les bases\, le fonctionnement et les enjeux. \nL’après-midi\, vous deviendrez acteurs de ces IA génératives à travers des ateliers interactifs et vous aurez un challenge à relever en équipe !  \nCible : profils data/tech/ingénieurs (formation scientifique\, data\, DSI\,…) \nContactez-nous vite pour avoir le programme détaillé et vous inscrire (inscription payante\, places limitées) : contact@datacraft.paris
URL:https://datacraft.paris/event/formation-dacculturation-ia-generative/
LOCATION:Sorbonne Université\, 4 Place Jussieu\, Paris\, France
END:VEVENT
END:VCALENDAR