BEGIN:VCALENDAR
VERSION:2.0
PRODID:-//datacraft - ECPv6.15.20//NONSGML v1.0//EN
CALSCALE:GREGORIAN
METHOD:PUBLISH
X-WR-CALNAME:datacraft
X-ORIGINAL-URL:https://datacraft.paris
X-WR-CALDESC:Events for datacraft
REFRESH-INTERVAL;VALUE=DURATION:PT1H
X-Robots-Tag:noindex
X-PUBLISHED-TTL:PT1H
BEGIN:VTIMEZONE
TZID:Europe/Paris
BEGIN:DAYLIGHT
TZOFFSETFROM:+0100
TZOFFSETTO:+0200
TZNAME:CEST
DTSTART:20200329T010000
END:DAYLIGHT
BEGIN:STANDARD
TZOFFSETFROM:+0200
TZOFFSETTO:+0100
TZNAME:CET
DTSTART:20201025T010000
END:STANDARD
BEGIN:DAYLIGHT
TZOFFSETFROM:+0100
TZOFFSETTO:+0200
TZNAME:CEST
DTSTART:20210328T010000
END:DAYLIGHT
BEGIN:STANDARD
TZOFFSETFROM:+0200
TZOFFSETTO:+0100
TZNAME:CET
DTSTART:20211031T010000
END:STANDARD
BEGIN:DAYLIGHT
TZOFFSETFROM:+0100
TZOFFSETTO:+0200
TZNAME:CEST
DTSTART:20220327T010000
END:DAYLIGHT
BEGIN:STANDARD
TZOFFSETFROM:+0200
TZOFFSETTO:+0100
TZNAME:CET
DTSTART:20221030T010000
END:STANDARD
END:VTIMEZONE
BEGIN:VEVENT
DTSTART;TZID=Europe/Paris:20210125T123000
DTEND;TZID=Europe/Paris:20210125T143000
DTSTAMP:20260425T161119
CREATED:20201117T114215Z
LAST-MODIFIED:20210225T144454Z
UID:2630-1611577800-1611585000@datacraft.paris
SUMMARY:Permanence juridique de janvier : qu'est-ce qu'une donnée personnelle ?
DESCRIPTION:Permanence animée par Caroline Henry\, cabinet Pons & Carrère. Réservée aux datacrafters \ndatacraft vous propose d’échanger avec une avocate spécialisée dans la data\, notamment dans la santé et les nouvelles technologies. \nLes membres auront l’occasion de poser toutes leurs questions autour de la réglementation des données sein du Club et de leurs entreprises. Ils pourront aussi demander par avance d’aborder certaines problématiques de leurs entreprises lors de ces permanences en envoyant par mail leur demande à l’adresse contact@datacraft.paris. \nCes permanences ont lieu une fois par mois. \nPar ailleurs\, dans le même modèle\, des permanences juridiques réservées aux responsables juridiques de vos organisations auront lieu une fois par trimestre. \n  \n  \n 
URL:https://datacraft.paris/event/permanence-juridique-de-janvier/
LOCATION:datacraft –\, 3 rue Rossini\, 75009 Paris\, France
ORGANIZER;CN="datacraft":MAILTO:contact@datacraft.paris
END:VEVENT
END:VCALENDAR