BEGIN:VCALENDAR
VERSION:2.0
PRODID:-//datacraft - ECPv6.15.20//NONSGML v1.0//EN
CALSCALE:GREGORIAN
METHOD:PUBLISH
X-WR-CALNAME:datacraft
X-ORIGINAL-URL:https://datacraft.paris
X-WR-CALDESC:Events for datacraft
REFRESH-INTERVAL;VALUE=DURATION:PT1H
X-Robots-Tag:noindex
X-PUBLISHED-TTL:PT1H
BEGIN:VTIMEZONE
TZID:Europe/Paris
BEGIN:DAYLIGHT
TZOFFSETFROM:+0100
TZOFFSETTO:+0200
TZNAME:CEST
DTSTART:20240331T010000
END:DAYLIGHT
BEGIN:STANDARD
TZOFFSETFROM:+0200
TZOFFSETTO:+0100
TZNAME:CET
DTSTART:20241027T010000
END:STANDARD
BEGIN:DAYLIGHT
TZOFFSETFROM:+0100
TZOFFSETTO:+0200
TZNAME:CEST
DTSTART:20250330T010000
END:DAYLIGHT
BEGIN:STANDARD
TZOFFSETFROM:+0200
TZOFFSETTO:+0100
TZNAME:CET
DTSTART:20251026T010000
END:STANDARD
BEGIN:DAYLIGHT
TZOFFSETFROM:+0100
TZOFFSETTO:+0200
TZNAME:CEST
DTSTART:20260329T010000
END:DAYLIGHT
BEGIN:STANDARD
TZOFFSETFROM:+0200
TZOFFSETTO:+0100
TZNAME:CET
DTSTART:20261025T010000
END:STANDARD
END:VTIMEZONE
BEGIN:VEVENT
DTSTART;TZID=Europe/Paris:20250402T090000
DTEND;TZID=Europe/Paris:20250402T170000
DTSTAMP:20260425T161304
CREATED:20250225T145647Z
LAST-MODIFIED:20250401T082740Z
UID:14381-1743584400-1743613200@datacraft.paris
SUMMARY:IA Générative en entreprise : comment accompagner et sécuriser les initiatives des collaborateurs ?
DESCRIPTION:datacraft et le LaborIA (Inria) organisent une réflexion sur les pratiques de l’IA générative en entreprises\, afin d’identifier et qualifier les enjeux d’innovation et de sécurité du Shadow AI\, ses opportunités\, comprendre s’il faut en sortir\, et si oui de quelle manière. \nPhase 1 : le 2 avril – Journées de réflexion à haut niveau en petit comité\, en présence d’entreprises pionnières*\, de représentants syndicaux et de quelques autres entreprises.  \nProgramme détaillé \n\n9h00 : Accueil\n9h30/9h40 : Mot de bienvenue datacraft X LaborIA – INRIA \n9h40/10h10 : État de l’art des pratiques de l’IAgen et du shadow AI dans les organisations – Yann Ferguson\, LaborIA\n10h10/10h40 : Réactions\, commentaires et débat \n10h40/11h30 : Témoignages des pratiques par les interrogés et débats\n11h30/12h10 : Enseignements des auditions\n12h10/12h25 : Présentation de la méthodologie de l’après-midi\n12h30/13h30 : Déjeuner\n13h30/15h30 : Ateliers : questionnement sur les pratiques du Shadow AI\n15h30/15h45 : Pause\n15h45/16h15 : Présentation des synthèses de l’atelier\n16h15/17h : Pour aller plus loin ? \n\n*Cette collaboration fédère 13 organisations pionnières dont Airbus\, Believe\, la Caisse Nationale d’Assurance Maladie\, le CHU de Montpellier\, Crédit Agricole\, Ekimetrics\, MAIF\, Malakoff Humanis\, Ministère des Armées\, Région Ile-de-France\, Skyrock\, Veepee\, Ville de Montpellier. \nPhase 2 : le 4 juin (8h30-10h00\, 3 Rue Rossini\, 75009 Paris)– Présentation des grands enseignements de cette réflexion autour d’un petit déjeuner\, ouvert à un public plus large. \n\nPrésentation de l’état de l’art des pratiques de l’IA Gen en entreprise et du shadow AI\,Yann Ferguson\, LaborIA\nPrincipales conclusions des réflexions menées avec les entreprises pionnières.\nMoment d’échange entre les invités : et vous quelles pratiques constatez-vous dans vos organisations ?\n\nVous pouvez vous inscrire au petit déjeuner du 4 juin – attention nombre de places limitées
URL:https://datacraft.paris/event/pratiques-de-lia-gen-en-entreprise-etat-de-lart-et-retours-dexperience/
LOCATION:Le Village By CA –\, 55 rue la Boétie\, 75008 Paris\, 75008\, France
CATEGORIES:in French,on-site event
END:VEVENT
END:VCALENDAR