BEGIN:VCALENDAR
VERSION:2.0
PRODID:-//datacraft - ECPv6.15.20//NONSGML v1.0//EN
CALSCALE:GREGORIAN
METHOD:PUBLISH
X-WR-CALNAME:datacraft
X-ORIGINAL-URL:https://datacraft.paris
X-WR-CALDESC:Events for datacraft
REFRESH-INTERVAL;VALUE=DURATION:PT1H
X-Robots-Tag:noindex
X-PUBLISHED-TTL:PT1H
BEGIN:VTIMEZONE
TZID:Europe/Paris
BEGIN:DAYLIGHT
TZOFFSETFROM:+0100
TZOFFSETTO:+0200
TZNAME:CEST
DTSTART:20250330T010000
END:DAYLIGHT
BEGIN:STANDARD
TZOFFSETFROM:+0200
TZOFFSETTO:+0100
TZNAME:CET
DTSTART:20251026T010000
END:STANDARD
BEGIN:DAYLIGHT
TZOFFSETFROM:+0100
TZOFFSETTO:+0200
TZNAME:CEST
DTSTART:20260329T010000
END:DAYLIGHT
BEGIN:STANDARD
TZOFFSETFROM:+0200
TZOFFSETTO:+0100
TZNAME:CET
DTSTART:20261025T010000
END:STANDARD
BEGIN:DAYLIGHT
TZOFFSETFROM:+0100
TZOFFSETTO:+0200
TZNAME:CEST
DTSTART:20270328T010000
END:DAYLIGHT
BEGIN:STANDARD
TZOFFSETFROM:+0200
TZOFFSETTO:+0100
TZNAME:CET
DTSTART:20271031T010000
END:STANDARD
END:VTIMEZONE
BEGIN:VEVENT
DTSTART;TZID=Europe/Paris:20260407T163000
DTEND;TZID=Europe/Paris:20260407T190000
DTSTAMP:20260421T105842
CREATED:20260213T154949Z
LAST-MODIFIED:20260407T075545Z
UID:18279-1775579400-1775588400@datacraft.paris
SUMMARY:REX - Data Provenance and Responsible AI for Social Media Privacy and Workforce Intelligence
DESCRIPTION:S’inscrire à l’événement\n\nGuilherme Medeiros Machado\, Associate Professor – ECE\nFaiza Belbachir\, faculty member and researcher – ECE\nSubankhar Chanti\, post-doc researcher – ECE \nREX – Data Provenance and Responsible AI for Social Media Privacy and Workforce Intelligence \nby Guilherme Machado Medeiros\, associate professor & Subhankar Maity\, post-doc researcher – ECE \n— Presentation In English — \nAs large language models (LLMs) increasingly power intelligent systems\, from conversational interfaces to code generation\, the need to understand the provenance of their training data has become critical. \nOur guests’ research tackles whether specific data samples contribute to LLM behaviour\, focusing on code repositories and social media content that differ sharply from traditional text datasets. \nThrough data provenance analysis and membership inference attacks\, we deliver measurable transparency into how models learn\, memorise\, and potentially expose sensitive information. The project tests authentic code and social media samples across state-of-the-art LLMs (GPT-5\, Gemini 2.5 Flash\, Mistral 24B\, LLaMA 3.3 70B\, DeepSeek\, etc.). \nWe develop statistical and visual frameworks to detect the presence of training data reliably. \nIn professional environments\, employee-contributed code often feeds LLMs for code assistance\, creating blind spots in workforce capabilities. Our detection reveals when proprietary code influences outputs beyond documented team knowledge\, highlighting specific learning gaps. \nThis drives targeted upskilling programs\, ensuring organisations maintain competitive expertise while protecting intellectual property from unauthorised model memorisation.\nSocial media content creates acute privacy risks when absorbed into LLMs\, as user-generated posts can reveal personal details through model outputs. Our methods allow individuals to flag whether their personal content was used in training\, enabling proactive privacy protection. This user-centric approach demands accountability from AI systems trained on public data\, aligning with GDPR requirements for transparency and data rights. \nThis research converts regulatory challenges into strategic opportunities\n– Privacy-first AI respecting user consent and personal data rights\n– IP protection for proprietary code and internal knowledge assets\n– Workforce analytics linking AI outputs to actionable training needs\n– Market differentiation through transparent\, auditable intelligence systems \n\n\nS’inscrire à l’événement\n\n\ndatacraft* est le club des Data Scientists\, Chercheurs et Ingénieurs en IA. Rejoignez-nous !
URL:https://datacraft.paris/event/rex-data-provenance-and-responsible-ai-for-social-media-privacy-and-workforce-intelligenc/
LOCATION:Le Village By CA –\, 55 rue la Boétie\, 75008 Paris\, 75008\, France
CATEGORIES:Hybrid event,in English
END:VEVENT
END:VCALENDAR