BEGIN:VCALENDAR
VERSION:2.0
PRODID:-//datacraft - ECPv6.15.20//NONSGML v1.0//EN
CALSCALE:GREGORIAN
METHOD:PUBLISH
X-WR-CALNAME:datacraft
X-ORIGINAL-URL:https://datacraft.paris
X-WR-CALDESC:Events for datacraft
REFRESH-INTERVAL;VALUE=DURATION:PT1H
X-Robots-Tag:noindex
X-PUBLISHED-TTL:PT1H
BEGIN:VTIMEZONE
TZID:Europe/Paris
BEGIN:DAYLIGHT
TZOFFSETFROM:+0100
TZOFFSETTO:+0200
TZNAME:CEST
DTSTART:20230326T010000
END:DAYLIGHT
BEGIN:STANDARD
TZOFFSETFROM:+0200
TZOFFSETTO:+0100
TZNAME:CET
DTSTART:20231029T010000
END:STANDARD
BEGIN:DAYLIGHT
TZOFFSETFROM:+0100
TZOFFSETTO:+0200
TZNAME:CEST
DTSTART:20240331T010000
END:DAYLIGHT
BEGIN:STANDARD
TZOFFSETFROM:+0200
TZOFFSETTO:+0100
TZNAME:CET
DTSTART:20241027T010000
END:STANDARD
BEGIN:DAYLIGHT
TZOFFSETFROM:+0100
TZOFFSETTO:+0200
TZNAME:CEST
DTSTART:20250330T010000
END:DAYLIGHT
BEGIN:STANDARD
TZOFFSETFROM:+0200
TZOFFSETTO:+0100
TZNAME:CET
DTSTART:20251026T010000
END:STANDARD
END:VTIMEZONE
BEGIN:VEVENT
DTSTART;TZID=Europe/Paris:20240918T173000
DTEND;TZID=Europe/Paris:20240918T183000
DTSTAMP:20260419T233627
CREATED:20240628T085745Z
LAST-MODIFIED:20241205T132032Z
UID:11964-1726680600-1726684200@datacraft.paris
SUMMARY:REX - GenAI in prod : practical tech & product insight for delivering value with RAG
DESCRIPTION:Inscription\n                \n            \n            \n			\n				\n				\n				\n				\n				Speaker \n\nFrançois Paupier\, Machine Learning Engineer \n\n\nPrésentation REX :  \nGenAI and especially large language models (LLMs) are reshaping the tech and AI ecosystem since ChatGPT release in nov 2022. Since then\, an increasing number of organisations are sharing the weights of their pretrained and finetuned model with relatively permissive license. Among the use cases of LLM\, the possibility to use them on top of a database of (un)structured documents to perform retrieval and synthesis for question answering with accurate semantics is booming – this is Retrieval Augmented Generation (RAG). \nIf it sounds promising\, building a RAG-based solution that actually solves a user’s need is no easy task. On the tech side\, choosing the appropriate models for embedding and generation\, evaluating performances\, and monitoring costs have no silver bullet solutions as of today and many machine learning engineer teams develop their own pipeline. Meanwhile\, on the product side\, articulating the unique value proposition of RAG and educating the market about its potential benefits and limitations remains a challenging task when handling data protection and dealing with hallucinations.This meetup is a synthesis of interviewing several organisations\, with various level of maturity in their LLM and RAG journey to gather insights and share with you actionnable tips you can leverage in building incredibly helpful products. \nKey Takeaways  \n\nSlides in pdf will be made available for free on the speaker twitter at the end of the talk @fpaupier.\nTechnical Challenges of RAG: we’ll review the complexities of selecting models\, evaluating performance\, and managing costs in the development of RAG-based solutions.\nProduct Strategy: we’ll share insights into defining the unique value proposition of RAG for your users and navigating the market’s learning curve.\nActionable Tips: we’ll distill the feedback of interviews with several C levels\, tech lead and ML lead from various companies on their experiences in RAG implementation.\n\n\nPrerequisites \nBasic understanding of LLM\, and RAG advised. Ideally you got yours hands dirty trying to build or sell a user a RAG solution by yourself. \nMore about François  \n\nFrançois Paupier is a senior machine learning engineer with a track record of assisting startups and fortune 500 companies in delivering AI solutions that address real user needs. François guided top governmental agencies on their GenAI adoption journey and deployed critical AI capabilities to public servants.
URL:https://datacraft.paris/event/rex-genai-in-prod-practical-tech-product-insight-for-delivering-value-with-rag/
LOCATION:datacraft –\, 3 rue Rossini\, 75009 Paris\, France
ORGANIZER;CN="datacraft":MAILTO:contact@datacraft.paris
END:VEVENT
END:VCALENDAR