BEGIN:VCALENDAR
VERSION:2.0
PRODID:-//datacraft - ECPv6.15.20//NONSGML v1.0//EN
CALSCALE:GREGORIAN
METHOD:PUBLISH
X-WR-CALNAME:datacraft
X-ORIGINAL-URL:https://datacraft.paris
X-WR-CALDESC:Events for datacraft
REFRESH-INTERVAL;VALUE=DURATION:PT1H
X-Robots-Tag:noindex
X-PUBLISHED-TTL:PT1H
BEGIN:VTIMEZONE
TZID:Europe/Paris
BEGIN:DAYLIGHT
TZOFFSETFROM:+0100
TZOFFSETTO:+0200
TZNAME:CEST
DTSTART:20240331T010000
END:DAYLIGHT
BEGIN:STANDARD
TZOFFSETFROM:+0200
TZOFFSETTO:+0100
TZNAME:CET
DTSTART:20241027T010000
END:STANDARD
BEGIN:DAYLIGHT
TZOFFSETFROM:+0100
TZOFFSETTO:+0200
TZNAME:CEST
DTSTART:20250330T010000
END:DAYLIGHT
BEGIN:STANDARD
TZOFFSETFROM:+0200
TZOFFSETTO:+0100
TZNAME:CET
DTSTART:20251026T010000
END:STANDARD
BEGIN:DAYLIGHT
TZOFFSETFROM:+0100
TZOFFSETTO:+0200
TZNAME:CEST
DTSTART:20260329T010000
END:DAYLIGHT
BEGIN:STANDARD
TZOFFSETFROM:+0200
TZOFFSETTO:+0100
TZNAME:CET
DTSTART:20261025T010000
END:STANDARD
END:VTIMEZONE
BEGIN:VEVENT
DTSTART;TZID=Europe/Paris:20251120T190000
DTEND;TZID=Europe/Paris:20251120T210000
DTSTAMP:20260421T115635
CREATED:20250915T144714Z
LAST-MODIFIED:20251104T094751Z
UID:16519-1763665200-1763672400@datacraft.paris
SUMMARY:Soirée CDO - Impact de l'IAgen sur les métiers de la relation client
DESCRIPTION:2511-SoireeCDO-CDO \nProchaine soirée Club CDO datacraft\, jeudi 20 novembre à 19h au 55 rue de la Boétie 75008 Paris \nDavid GIBLAS\, Directeur général délégué\, en charge de l’innovation\, des partenariats santé\, des systèmes d’information\, du digital et de la data\, des achats et de Malakoff Humanis Innov : Impact de l’IAgen sur les métiers de la relation client.\n \n\nRetour sur les expérimentations d’un usage de l’IA au service des téléconseillers : ce qui marche vs. la promesse initiale\nComment garder l’humain en front ?\n\nNous prolongerons les échanges autour d’un cocktail. \n \n\nInscription\n \n\nSouhaitez-vous participer en présentiel ou distanciel ? \n\nPrésentiel\nDistanciel\n\nValider inscription \n\n \nJe suis membre\, je me connecte\nJe ne suis pas membre mais souhaite quand même participer\n \n    \n        Connectez-vous pour vous inscrire à cet atelier. \n        \n            Email *Password / Mot de passe *J’ai oublié mon mot de passe Remember MeLogin / Se connecter\n            J’ai oublié mon mot de passe \n            Votre mot de passe vous a été envoyé par mail lors de votre\n                inscription au club. Vous pouvez le réinitialiser en cliquant sur le lien\n                ci-dessous :\n                Réinitialiser son mot de passe\n            \n        \n    \n    \n \n\n\nNom*\n\nPrénom*\n\nEmail*\n\nFonction*\n\nEntreprise*\n\nLinkedIn\n\nComment connaissez vous datacraft ?\n\n\nSouhaitez-vous participer en présentiel ou distanciel ? \nPrésentiel\nDistanciel\n\n\nValider inscription \n\nLoading…\n \nVous êtes bien inscrit !\nNous vous avons envoyé un save-the-date par email. \n\n \nSoirée réservée aux Chief Data Officer
URL:https://datacraft.paris/event/soiree-cdo-8/
LOCATION:Le Village By CA –\, 55 rue la Boétie\, 75008 Paris\, 75008\, France
CATEGORIES:in French,on-site event
END:VEVENT
END:VCALENDAR