BEGIN:VCALENDAR
VERSION:2.0
PRODID:-//datacraft - ECPv6.15.20//NONSGML v1.0//EN
CALSCALE:GREGORIAN
METHOD:PUBLISH
X-WR-CALNAME:datacraft
X-ORIGINAL-URL:https://datacraft.paris
X-WR-CALDESC:Events for datacraft
REFRESH-INTERVAL;VALUE=DURATION:PT1H
X-Robots-Tag:noindex
X-PUBLISHED-TTL:PT1H
BEGIN:VTIMEZONE
TZID:Europe/Paris
BEGIN:DAYLIGHT
TZOFFSETFROM:+0100
TZOFFSETTO:+0200
TZNAME:CEST
DTSTART:20230326T010000
END:DAYLIGHT
BEGIN:STANDARD
TZOFFSETFROM:+0200
TZOFFSETTO:+0100
TZNAME:CET
DTSTART:20231029T010000
END:STANDARD
BEGIN:DAYLIGHT
TZOFFSETFROM:+0100
TZOFFSETTO:+0200
TZNAME:CEST
DTSTART:20240331T010000
END:DAYLIGHT
BEGIN:STANDARD
TZOFFSETFROM:+0200
TZOFFSETTO:+0100
TZNAME:CET
DTSTART:20241027T010000
END:STANDARD
BEGIN:DAYLIGHT
TZOFFSETFROM:+0100
TZOFFSETTO:+0200
TZNAME:CEST
DTSTART:20250330T010000
END:DAYLIGHT
BEGIN:STANDARD
TZOFFSETFROM:+0200
TZOFFSETTO:+0100
TZNAME:CET
DTSTART:20251026T010000
END:STANDARD
END:VTIMEZONE
BEGIN:VEVENT
DTSTART;TZID=Europe/Paris:20240826T150000
DTEND;TZID=Europe/Paris:20240826T180000
DTSTAMP:20260419T233548
CREATED:20240702T120836Z
LAST-MODIFIED:20240805T135428Z
UID:12007-1724684400-1724695200@datacraft.paris
SUMMARY:WORKSHOP - Polars: Faster\, Lighter\, Smarter
DESCRIPTION:Inscription\n                \n            \n            \n			\n				\n				\n				\n				\n				Organizers \n\nRaphael Vienne\, Head of AI at datacraft\nRémy Gasmi\, Data Scientist Intern at datacraft\n\nWorkshop introduction: \nData processing is a key part of a data scientist’s day to day job. Today\, we consider that most data scientists spend more time processing\, and visualizing data than building models out of it. Another key finding is that better downstream performance is often yielded from data quality and robustness of data pipelines\, rather than from architectural improvements. \nFor several years\, pandas has shown to be the go-to open-source python library for single-node data processing. However\, its creator\, Wes McKinney\, published in 2017 a blog post entitled: “Apache Arrow and the 10 things I hate about pandas” where he goes through several design choices that were made during the development of pandas\, and how he would do them differently\, had he had the opportunity to do things differently. \nFrom this idea\, polars was born. \nPolars started out as a hobby project in 2020\, but quickly gained traction within the open source community. Many developers were searching for an easy-to-use DataFrame library that was performant at the same time\, and Polars set out to fill this void. The community grew fast as many contributors came in from various backgrounds and programming languages. \nToday\, polars is rapidly evolving and community adherence is very strong. The library is evolving at a pace where it could outgrow pandas (in terms of github stars) within several years. \nWorkshop summary: \nThe goal of this workshop is to introduce data scientists to the polars library and provide first examples to become familiar with it. \nIn this workshop\, we will: \n\nBriefly introduce polars and the design choices associated with the library.\nWork our way through the documentation and basic functions / objects as a starter.\nTranslate complex pandas pipelines to polars.\nEvaluate the gain in performance associated to various tasks that a data scientist can work on.\n\n  \nWhether you heard of polars or not\, let us convince you that this library is not something you want to miss. \nCome and benefit from the experience of our team on this library.
URL:https://datacraft.paris/event/workshop-polars-faster-lighter-smarter/
LOCATION:datacraft –\, 3 rue Rossini\, 75009 Paris\, France
ORGANIZER;CN="datacraft":MAILTO:contact@datacraft.paris
END:VEVENT
END:VCALENDAR